BEGIN:VCALENDAR
PRODID:NingEventWidget-v1
VERSION:2.0
METHOD:PUBLISH
BEGIN:VEVENT
UID:5167423:Event:327238
DTSTAMP:20260423T065819Z
SUMMARY:Draggin Wagon Fall Car, Truck & Bike Show
DESCRIPTION:DJ Music - 50-50s - Gift Baskets Raffle - Food & Ice Cream
  Trucks. - Category Plaques Awarded - $15.00 donation per vehicle. - N
 on-Perishable Food donations collected for Honey Brook Food Panty.  A
 ll proceeds go to local Charites in the tri-county area. \n\nFor more
  information visit https://northeastwheelsevents.com/events/draggin-wa
 gon-fall-car-truck-amp-bike-show
DTSTART:20240928T140000Z
DTEND:20240928T180000Z
CATEGORIES:car, truck, "&amp", bike, show
LOCATION:Honey Brook Gardens
WEBSITE:
URL:
CONTACT:717-629-1042
ORGANIZER;CN="Butch Marvin":https://northeastwheelsevents.com/profile/
 ButchMarvin
ATTACH;FMTTYPE="image/jpeg":
ATTENDEE;ROLE=REQ-PARTICIPANT;PARTSTAT=ACCEPTED;RSVP=TRUE;CN="Butch Ma
 rvin":https://northeastwheelsevents.com/profile/ButchMarvin
END:VEVENT
END:VCALENDAR
