BEGIN:VCALENDAR
PRODID:NingEventWidget-v1
VERSION:2.0
METHOD:PUBLISH
BEGIN:VEVENT
UID:5167423:Event:347652
DTSTAMP:20260424T123739Z
SUMMARY:Draggin Wagons Car, Truck &amp; Bike Show
DESCRIPTION:All Cars Trucks & Bikes welcome\n$15 donation per vehicle\
 n(Please bring nonperishable food donations for the Honey Brook Food P
 antry)\nDJ, Food Truck,\n15 plus categories awarded\nGood Family Fun f
 or all!\n\n\n\nFor more information visit https://northeastwheelsevent
 s.com/events/draggin-wagons-car-truck-amp-bike-show-7
DTSTART:20260503T150000Z
DTEND:20260503T190000Z
CATEGORIES:cars, trucks, "&amp", bikes
LOCATION:Across from Wimpy &amp; Dee's Dinner
WEBSITE:http://5064 Horseshoe Pike, Honey Brook, PA 19344
URL:http://5064 Horseshoe Pike, Honey Brook, PA 19344
CONTACT:717-629-1042 (Butch)
ORGANIZER:Draggin Wagons Car Club
ATTACH;FMTTYPE="image/jpeg":
ATTENDEE;ROLE=REQ-PARTICIPANT;PARTSTAT=ACCEPTED;RSVP=TRUE;CN="Pamela H
 irschhorn":https://northeastwheelsevents.com/profile/PamelaHirschhorn
ATTENDEE;ROLE=REQ-PARTICIPANT;PARTSTAT=ACCEPTED;RSVP=TRUE;CN="Butch Ma
 rvin":https://northeastwheelsevents.com/profile/ButchMarvin
END:VEVENT
END:VCALENDAR
