BEGIN:VCALENDAR
PRODID:NingEventWidget-v1
VERSION:2.0
METHOD:PUBLISH
BEGIN:VEVENT
UID:5167423:Event:109546
DTSTAMP:20260421T153324Z
SUMMARY:Dunkirk Automotive and Flea Market
DESCRIPTION:The 48th Annual Automotive Swap Meet and Flea Market. \n\
 nFree admission. On site parking available for $5.00 a vehicle. \n\nJ
 unk in the trunk on Sunday from 9 AM to 1 PM for only $10. No trailers
 . \n\nFor more information visit https://northeastwheelsevents.com/ev
 ents/dunkirk-automotive-and-flea-market
DTSTART:20160520T120000Z
DTEND:20160522T210000Z
CATEGORIES:automotive, swap, meet, and, flea, market
LOCATION:Chautauqua County Fairgrounds
WEBSITE:http://clraaca-dunkirk-flea-market.org
URL:http://clraaca-dunkirk-flea-market.org
CONTACT:716 489 4868
ORGANIZER:Chautuaqua Lake Region AACA
ATTACH;FMTTYPE="image/jpeg":http://storage.ning.com/topology/rest/1.0/
 file/get/2284085791?profile=original
ATTENDEE;ROLE=REQ-PARTICIPANT;PARTSTAT=ACCEPTED;RSVP=TRUE;CN="Nancy Ru
 dny":https://northeastwheelsevents.com/profile/NancyRudny
END:VEVENT
END:VCALENDAR
