BEGIN:VCALENDAR
PRODID:NingEventWidget-v1
VERSION:2.0
METHOD:PUBLISH
BEGIN:VEVENT
UID:5167423:Event:73951
DTSTAMP:20260422T124205Z
SUMMARY:Dutch Dubbers Spring Cruise In Volkswagon
DESCRIPTION:The Dutch Dubbers 7th Annual Spring Cruise-in will be on M
 ay 16, 2015 10am - 3pm at America On Wheels Allentown, PA.\n\nFor mor
 e information visit https://northeastwheelsevents.com/events/dutch-dub
 bers-spring-cruise-in-volkswagon
DTSTART:20150516T140000Z
DTEND:20150516T190000Z
CATEGORIES:show, cruise, and, flea, market
LOCATION:America On Wheels Museum
WEBSITE:http://www.dutchdubbers.com/p/spring-cruise-in-2015.html
URL:http://www.dutchdubbers.com/p/spring-cruise-in-2015.html
CONTACT:lvdutchdubbers@gmail.com
ORGANIZER:he Lehigh Valley Dutch Dubbers VW Club
ATTACH;FMTTYPE="image/jpeg":http://storage.ning.com/topology/rest/1.0/
 file/get/2284074476?profile=original
ATTENDEE;ROLE=REQ-PARTICIPANT;PARTSTAT=ACCEPTED;RSVP=TRUE;CN="Pamela H
 irschhorn":https://northeastwheelsevents.com/profile/PamelaHirschhorn
END:VEVENT
END:VCALENDAR
