BEGIN:VCALENDAR
PRODID:NingEventWidget-v1
VERSION:2.0
METHOD:PUBLISH
BEGIN:VEVENT
UID:5167423:Event:101859
DTSTAMP:20260421T141228Z
SUMMARY:Dutch Dubbers VW Car Show at America On Wheels Museum
DESCRIPTION:FREE outside Event\n\nFor more information visit https://n
 ortheastwheelsevents.com/events/dutch-dubbers-vw-car-show-at-america-o
 n-wheels-museum
DTSTART:20160521T140000Z
DTEND:20160521T190000Z
CATEGORIES:family, friends, free, museum, car, show
LOCATION:America On Wheels Museum
WEBSITE:http://americaonwheels.org/
URL:http://americaonwheels.org/
CONTACT:610-432-4200
ORGANIZER:America On Wheels Museum
ATTACH;FMTTYPE="image/jpeg":http://storage.ning.com/topology/rest/1.0/
 file/get/2284065500?profile=original
ATTENDEE;ROLE=REQ-PARTICIPANT;PARTSTAT=ACCEPTED;RSVP=TRUE;CN="America 
 On Wheels Museum":https://northeastwheelsevents.com/profile/americaonw
 heels
END:VEVENT
END:VCALENDAR
