BEGIN:VCALENDAR
PRODID:NingEventWidget-v1
VERSION:2.0
METHOD:PUBLISH
BEGIN:VEVENT
UID:5167423:Event:243265
DTSTAMP:20260422T154618Z
SUMMARY:EACA Car Show and Chinese Auction
DESCRIPTION:2019 EACA Car Show and Chinese Auction\nPre-registration -
  $10, day of show - $15\nRegistration is from 8:00 - 11:00 am\nAwards 
 for top 30 vehicles plus 5 Special Awards including a Father's Day Awa
 rd\nBenefits the Elizabethville Area pool and park projects\n\nFor mor
 e information visit https://northeastwheelsevents.com/events/eaca-car-
 show-and-chinese-auction
DTSTART:20190615T120000Z
DTEND:20190615T180000Z
CATEGORIES:fundraiser
LOCATION:Rite Screen parking lot
WEBSITE:
URL:
CONTACT:717.645.4474
ORGANIZER;CN="Sherry Bonawitz":https://northeastwheelsevents.com/profi
 le/SherryBonawitz
ATTACH;FMTTYPE="image/jpeg":https://storage.ning.com/topology/rest/1.0
 /file/get/2117116814?profile=original
ATTENDEE;ROLE=REQ-PARTICIPANT;PARTSTAT=ACCEPTED;RSVP=TRUE;CN="Sherry B
 onawitz":https://northeastwheelsevents.com/profile/SherryBonawitz
END:VEVENT
END:VCALENDAR
