BEGIN:VCALENDAR
PRODID:NingEventWidget-v1
VERSION:2.0
METHOD:PUBLISH
BEGIN:VEVENT
UID:5167423:Event:174482
DTSTAMP:20260422T124206Z
SUMMARY:EACA Car Show, Swap Meet and Chinese Auction
DESCRIPTION:Registration 8:00 am - 11:00 am (all show cars must be par
 ked by 11)\nJudging 11:30\nRaffle and 50/50 - noon\nAwards 1:00 pm\nTo
 p 25 awards and five special awards\n\nFor more information visit http
 s://northeastwheelsevents.com/events/eaca-car-show-swap-meet-and-chine
 se-auction
DTSTART:20180616T120000Z
DTEND:20180616T180000Z
CATEGORIES:fundraiser
LOCATION:Rite Screen parking lot
WEBSITE:https://elizabethvillepool.com/events/carshow
URL:https://elizabethvillepool.com/events/carshow
CONTACT:717.645.4474
ORGANIZER;CN="Sherry Bonawitz":https://northeastwheelsevents.com/profi
 le/SherryBonawitz
ATTACH;FMTTYPE="image/jpeg":
ATTENDEE;ROLE=REQ-PARTICIPANT;PARTSTAT=ACCEPTED;RSVP=TRUE;CN="Sherry B
 onawitz":https://northeastwheelsevents.com/profile/SherryBonawitz
END:VEVENT
END:VCALENDAR
