BEGIN:VCALENDAR
PRODID:NingEventWidget-v1
VERSION:2.0
METHOD:PUBLISH
BEGIN:VEVENT
UID:5167423:Event:232224
DTSTAMP:20260420T182928Z
SUMMARY:Earlton Hill Campground 9th Annual Pig Roast and Car Show
DESCRIPTION:This is our 9th Annual Pig Roast and Car Show .  We are l
 ocated at 594 Medway Earlton Road in Earlton NY.  Our Car Show will b
 e held on Saturday June 8, 2019. It will start at 12 Noon and is FREE 
 to all cars and one guest.Prizes will be awarded.  We will have baske
 t raffles and a 50/50. Food and drinks will be for sale.\nThe Pig Roas
 t is one free meal for the driver and the guest can eat for $15.00.  
 This starts at 5 O'Clock with a D.J. to follow for your entertainment.
 \n\nThank You  Hope to see you there.\n\nFor more information visit h
 ttps://northeastwheelsevents.com/events/earlton-hill-campground
DTSTART:20190608T040000Z
DTEND:20190609T035900Z
CATEGORIES:car, show, and, pig, roast
LOCATION:Earlton Hill Campground
WEBSITE:
URL:
CONTACT:518-731-2751
ORGANIZER;CN=Tammy:https://northeastwheelsevents.com/profile/Tammy
ATTACH;FMTTYPE="image/jpeg":
ATTENDEE;ROLE=REQ-PARTICIPANT;PARTSTAT=ACCEPTED;RSVP=TRUE;CN=Tammy:htt
 ps://northeastwheelsevents.com/profile/Tammy
END:VEVENT
END:VCALENDAR
