BEGIN:VCALENDAR
PRODID:NingEventWidget-v1
VERSION:2.0
METHOD:PUBLISH
BEGIN:VEVENT
UID:5167423:Event:232768
DTSTAMP:20260422T211848Z
SUMMARY:East Brunswick VFW Spring Car Show
DESCRIPTION:East Brunswick VFW 5th Annual Spring Car Show\nAt 485 Cran
 bury Road and Veterans Way  East Brunswick New Jersey.\nHosted By Cem
 etery To Hell Guitars & Dirty Rat Apparel \nD.J. Rockin Ronster.\n\nR
 efreshment Available Great Food By Rich : Breakfast & Lunch.\n50/50 ,D
 ash Plaques to the First 50 Cars. Sponsored Trophy's \nPre Registrati
 on is $10.00 Day Of Show is $15.00\nSpectators are Free \nMake Check 
 Payable to East Brunswick VFW Post 133 By May 18,2019 \n\nCall for an
 y Info VFW 732-254-8864 \nOr B.T. @ 908-227-9094 \n\nRain Date is Ju
 ne 2, 2019\nIf you like to be a Vendor Call B.T. \nThank You & Hope t
 o see you There.\n\n\nFor more information visit https://northeastwhee
 lsevents.com/events/east-brunswick-vfw-spring-car-show
DTSTART:20190526T140000Z
DTEND:20190526T190000Z
CATEGORIES:helping, our, veterans
LOCATION:East Brunswick VFW
WEBSITE:
URL:
CONTACT:9082279094
ORGANIZER;CN="B.T. Scott D, Marks":https://northeastwheelsevents.com/p
 rofile/BTScottDMarks
ATTACH;FMTTYPE="image/jpeg":https://storage.ning.com/topology/rest/1.0
 /file/get/940224301?profile=original
ATTENDEE;ROLE=REQ-PARTICIPANT;PARTSTAT=ACCEPTED;RSVP=TRUE;CN="B.T. Sco
 tt D, Marks":https://northeastwheelsevents.com/profile/BTScottDMarks
END:VEVENT
END:VCALENDAR
