BEGIN:VCALENDAR
PRODID:NingEventWidget-v1
VERSION:2.0
METHOD:PUBLISH
BEGIN:VEVENT
UID:5167423:Event:64231
DTSTAMP:20260421T195748Z
SUMMARY:East Coast Cruising Association's \"Fun Run\"
DESCRIPTION: Open to ALL Modified, Restyled, Restored Vehicles\n\nDri
 ving events - Hourly CASH drawings - Live Entertainment - Top 10 Cruis
 ers & \"King of the Cruisers\" Awards - Club Participation Award - \n
 Pre-paid Gas Cards for in/out state Long Distance\n& MORE\n\nBIG \"Ear
 ly Bird\" Welcome Party with food, drinks and drawings for CASH & FREE
  Motel rooms\n(MUST be pre-entered by May 1st)\n\nFor fliers & Info co
 ntact:\n\nVideo Bob:   MemoreeMaker@webtv.net or call\n757 587 0905\n
 \nJack:  jack50ford@gmail.com - 410 703 2014\n\nFor more information 
 visit https://northeastwheelsevents.com/events/east-coast-cruising-ass
 ociation-s-fun-run
DTSTART:20150612T040000Z
DTEND:20150614T035900Z
CATEGORIES:car, show
LOCATION:Oakside Community Park
WEBSITE:
URL:
CONTACT:757 587 0905
ORGANIZER;CN="Bob Huff":https://northeastwheelsevents.com/profile/BobH
 uff
ATTACH;FMTTYPE="image/jpeg":
ATTENDEE;ROLE=REQ-PARTICIPANT;PARTSTAT=ACCEPTED;RSVP=TRUE;CN="Bob Huff
 ":https://northeastwheelsevents.com/profile/BobHuff
END:VEVENT
END:VCALENDAR
