BEGIN:VCALENDAR
PRODID:NingEventWidget-v1
VERSION:2.0
METHOD:PUBLISH
BEGIN:VEVENT
UID:5167423:Event:334260
DTSTAMP:20260423T055041Z
SUMMARY:East Coast Culture Car Show
DESCRIPTION:We are excited to announce our first car show, on October 
 26, 9:30am- 1:30pm! It is being held at Hickories Park in Owego New Yo
 rk! Easy on/off I86/rt17. We will be at Pavilions Five and Six. Entran
 ts must pre register by emailing  eastcoastcultur3@gmail.com! A $10 r
 egistration fee is due per show vehicle on approval. A $5 spectator fe
 e per vehicle will be collected. We invite you to bring friends and su
 pport the local Humane Society through donations. The event will featu
 re live music and awards at the end of the show! \n\nFor more informa
 tion visit https://northeastwheelsevents.com/events/east-coast-culture
 -car-show
DTSTART:20241026T133000Z
DTEND:20241026T173000Z
CATEGORIES:carshow, benefit
LOCATION:Hickories Park- Owego NY
WEBSITE:https://www.facebook.com/events/hickories-park-owego/east-coas
 t-culture-car-show/855065850100825/
URL:https://www.facebook.com/events/hickories-park-owego/east-coast-cu
 lture-car-show/855065850100825/
CONTACT:
ORGANIZER:East Coast Culture
ATTACH;FMTTYPE="image/jpeg":https://storage.ning.com/topology/rest/1.0
 /file/get/12955115498?profile=original
ATTENDEE;ROLE=REQ-PARTICIPANT;PARTSTAT=ACCEPTED;RSVP=TRUE;CN="William 
 Bruce":https://northeastwheelsevents.com/profile/WilliamBruce
END:VEVENT
END:VCALENDAR
