BEGIN:VCALENDAR
PRODID:NingEventWidget-v1
VERSION:2.0
METHOD:PUBLISH
BEGIN:VEVENT
UID:5167423:Event:135666
DTSTAMP:20260424T015131Z
SUMMARY:East Coast Indoor Nationals
DESCRIPTION:East Coast Indoor Nationals\nDecember 3rd & 4th 2016\nSatu
 rday 9am to 8pmSunday 9am to 4pm\nTimonium Fairgrounds Cow Palace2200
  York Rd. Timonium, MD 21093\n\nFor more information visit https://no
 rtheastwheelsevents.com/events/east-coast-indoor-nationals-1
DTSTART:20161203T140000Z
DTEND:20161204T210000Z
CATEGORIES:car, show
LOCATION:Timonium Fairgrounds  Cow Palace
WEBSITE:https://www.eastcoastindoornats.com/
URL:https://www.eastcoastindoornats.com/
CONTACT:
ORGANIZER;CN="Andy Goodman":https://northeastwheelsevents.com/profile/
 AndyGoodman
ATTACH;FMTTYPE="image/jpeg":http://storage.ning.com/topology/rest/1.0/
 file/get/2284090950?profile=original
ATTENDEE;ROLE=REQ-PARTICIPANT;PARTSTAT=ACCEPTED;RSVP=TRUE;CN="Andy Goo
 dman":https://northeastwheelsevents.com/profile/AndyGoodman
END:VEVENT
END:VCALENDAR
