BEGIN:VCALENDAR
PRODID:NingEventWidget-v1
VERSION:2.0
METHOD:PUBLISH
BEGIN:VEVENT
UID:5167423:Event:294396
DTSTAMP:20260426T000442Z
SUMMARY:East Coast Indoor Nationals, Timonium MD
DESCRIPTION:\n\nFor more information visit https://northeastwheelseven
 ts.com/events/east-coast-indoor-nationals-timonium-md-2
DTSTART:20211204T140000Z
DTEND:20211205T210000Z
CATEGORIES:car, show
LOCATION:Timonium Fairgrounds
WEBSITE:http://www.Motoramaproductions.com
URL:http://www.Motoramaproductions.com
CONTACT:Dan 717 269-2625
ORGANIZER:Motorama Productions
ATTACH;FMTTYPE="image/jpeg":https://storage.ning.com/topology/rest/1.0
 /file/get/9621455469?profile=original
ATTENDEE;ROLE=REQ-PARTICIPANT;PARTSTAT=ACCEPTED;RSVP=TRUE;CN="Auto Eve
 nt Marketing llc":https://northeastwheelsevents.com/profile/AutoEventM
 arketingllc
END:VEVENT
END:VCALENDAR
