BEGIN:VCALENDAR
PRODID:NingEventWidget-v1
VERSION:2.0
METHOD:PUBLISH
BEGIN:VEVENT
UID:5167423:Event:125484
DTSTAMP:20260425T090255Z
SUMMARY:East End Olds Club Rocket Rally 2016
DESCRIPTION:12th Annual Rocket Rally Classic Car Show, Judging & Troph
 ies in 15 classes 1887-1985, 2 classes 1986- newer American Muscle Car
 s. Dash Plaques for first 200 registered cars. Rain Date Aug. 28th 201
 6\n\nFor more information visit https://northeastwheelsevents.com/even
 ts/east-end-olds-club-rocket-rally-2016
DTSTART:20160821T130000Z
DTEND:20160821T200000Z
CATEGORIES:judged, classic, car, show
LOCATION:Ridge Fireman's Memorial Park
WEBSITE:
URL:
CONTACT:(631) 728-2202 or 929-5637 or 722-3617
ORGANIZER:East End Olds Club
ATTACH;FMTTYPE="image/jpeg":http://storage.ning.com/topology/rest/1.0/
 file/get/2097701116?profile=original
ATTENDEE;ROLE=REQ-PARTICIPANT;PARTSTAT=ACCEPTED;RSVP=TRUE;CN="Bill Web
 b":https://northeastwheelsevents.com/profile/BillWebb
END:VEVENT
END:VCALENDAR
