BEGIN:VCALENDAR
PRODID:NingEventWidget-v1
VERSION:2.0
METHOD:PUBLISH
BEGIN:VEVENT
UID:5167423:Event:238170
DTSTAMP:20260422T205134Z
SUMMARY:East Penn Modifiers 3rd annual \"Car-nival\" show
DESCRIPTION:East Penn Modifiers invite you all to join us at the 3rd a
 nnual Penn Valley Community Fair \"Car-nival\" car show! Cars, trucks 
 & motorcycles welcome. Event is held Wednesday June 12th 5pm to 9pm du
 ring the Carnival festivities! Top 25 + 5 special trophies will be awa
 rded! Carnival atmosphere with games, rides & good for purchase. Rain 
 date is Friday June 14th. Proceeds benefit Operation Safe Haven. For m
 ore info contact Jim 215-313-7033 or Chris 267-745-3626\n\nFor more in
 formation visit https://northeastwheelsevents.com/events/east-penn-mod
 ifiers-3rd-annual-car-nival-show
DTSTART:20190612T210000Z
DTEND:20190613T010000Z
CATEGORIES:"fundraiser/community", event
LOCATION:Penn Valley Church, Telford
WEBSITE:
URL:
CONTACT:215-313-7033
ORGANIZER;CN="Jim Hunsberger":https://northeastwheelsevents.com/profil
 e/JimHunsberger
ATTACH;FMTTYPE="image/jpeg":https://storage.ning.com/topology/rest/1.0
 /file/get/1158036617?profile=original
ATTENDEE;ROLE=REQ-PARTICIPANT;PARTSTAT=ACCEPTED;RSVP=TRUE;CN="Jim Huns
 berger":https://northeastwheelsevents.com/profile/JimHunsberger
END:VEVENT
END:VCALENDAR
