BEGIN:VCALENDAR
PRODID:NingEventWidget-v1
VERSION:2.0
METHOD:PUBLISH
BEGIN:VEVENT
UID:5167423:Event:238083
DTSTAMP:20260422T181851Z
SUMMARY:East Penn Modifiers 4th annual Landis Supermarket car show
DESCRIPTION:East Penn Modifiers Club would like to invite you to the 4
 th annual car show at Landis Supermarket of Telford! Event is Saturday
  May 11th 10am to 2pm with rain date of Saturday May 18th. All cars, t
 rucks, motorcycles & big rigs welcome! Top 30 + 5 special trophies ...
  door prizes,raffles, dj ! Landis market will offer discounted meal it
 ems for show participants.for more info contact Jim 215-313-7033 or Ch
 ris 267-745-3626\n\nFor more information visit https://northeastwheels
 events.com/events/east-penn-modifiers-4th-annual-landis-supermarket-ca
 r-show
DTSTART:20190511T140000Z
DTEND:20190511T180000Z
CATEGORIES:"fundraiser/community", event
LOCATION:Landis Supermarket parking lot
WEBSITE:
URL:
CONTACT:215-313-7033
ORGANIZER;CN="Jim Hunsberger":https://northeastwheelsevents.com/profil
 e/JimHunsberger
ATTACH;FMTTYPE="image/jpeg":https://storage.ning.com/topology/rest/1.0
 /file/get/1157552602?profile=original
ATTENDEE;ROLE=REQ-PARTICIPANT;PARTSTAT=ACCEPTED;RSVP=TRUE;CN="Jim Huns
 berger":https://northeastwheelsevents.com/profile/JimHunsberger
END:VEVENT
END:VCALENDAR
