BEGIN:VCALENDAR
PRODID:NingEventWidget-v1
VERSION:2.0
METHOD:PUBLISH
BEGIN:VEVENT
UID:5167423:Event:68011
DTSTAMP:20260422T043224Z
SUMMARY:East Penn Modifiers Club
DESCRIPTION:Attention All Cars, Trucks, Motorcycles, Hot Rods, Rat Rod
 s, Muscle Cars, Tuners, Low Riders & anything else with wheels!!! East
  Penn Modifiers Club in partnership with FIFS Motorsport Ins & Pep Boy
 s Speed Shop Quakertown invites all to the 1st annual Speed Shop Show!
  (Cars & Coffee, Java & Jalopies, Doughnuts & Drag Cars or whatever yo
 u want to call it) FREE doughnuts & coffee, door prizes, raffles, 50/5
 0 & more! Top 20 + 5 specia trophies will be awarded! Registration is 
 $15 day of show. Proceeds to benefit several local charities. Come out
  & have some fun with all us \"Car Guys\" & Meet Travis & the gang at 
 Pep Boys!\n\nFor more information visit https://northeastwheelsevents.
 com/events/east-penn-modifiers-club-2
DTSTART:20150718T120000Z
DTEND:20150718T160000Z
CATEGORIES:all, vehicles, welcome, car, show
LOCATION:Pep Boys Quakertown
WEBSITE:
URL:
CONTACT:215-313-7033
ORGANIZER:East Penn Modifiers Club
ATTACH;FMTTYPE="image/jpeg":http://storage.ning.com/topology/rest/1.0/
 file/get/2284070451?profile=original
ATTENDEE;ROLE=REQ-PARTICIPANT;PARTSTAT=ACCEPTED;RSVP=TRUE;CN="Jim Huns
 berger":https://northeastwheelsevents.com/profile/JimHunsberger
END:VEVENT
END:VCALENDAR
