BEGIN:VCALENDAR
PRODID:NingEventWidget-v1
VERSION:2.0
METHOD:PUBLISH
BEGIN:VEVENT
UID:5167423:Event:174246
DTSTAMP:20260420T034543Z
SUMMARY:East Penn Modifiers Club
DESCRIPTION:East Penn Modifiers Club will be hosting the first annual 
 \"Car-Nival\" show at the Penn Valley Church in Telford! The show will
  be a part of the community fair & proceeds will go to a few local Cha
 rities. Date of the event is Wednesday evening June 13th 5 pm - 9pm. W
 ith a rain date of Friday june 15th. Registration will start by 4pm. T
 here will be carnival rides,  dj, all kinds food & 15+ trophies. Come
  on out & bring the family! \n\nFor more information visit https://no
 rtheastwheelsevents.com/events/east-penn-modifiers-club-9
DTSTART:20180613T210000Z
DTEND:20180614T010000Z
CATEGORIES:fundraiser
LOCATION:Penn Valley Church baseball outfield
WEBSITE:
URL:
CONTACT:215-313-7033
ORGANIZER;CN="Jim Hunsberger":https://northeastwheelsevents.com/profil
 e/JimHunsberger
ATTACH;FMTTYPE="image/jpeg":http://storage.ning.com/topology/rest/1.0/
 file/get/2284111008?profile=original
ATTENDEE;ROLE=REQ-PARTICIPANT;PARTSTAT=ACCEPTED;RSVP=TRUE;CN="Jim Huns
 berger":https://northeastwheelsevents.com/profile/JimHunsberger
END:VEVENT
END:VCALENDAR
