BEGIN:VCALENDAR
PRODID:NingEventWidget-v1
VERSION:2.0
METHOD:PUBLISH
BEGIN:VEVENT
UID:5167423:Event:311567
DTSTAMP:20260421T231519Z
SUMMARY:East Prospect Community Pride Annual Car Show
DESCRIPTION:East Prospect Community Pride Committee announces\n2nd Ann
 ual Holiday Car Show -  July 1st,Saturday, 2023\nEast Prospect Commun
 ity Park and Ball field\nLemon& Ridge Ave's   All motorized vehicles
  invited\n11-12 Registration  12-4 Show Time   Awards 3:30pm\nExpand
 ed area to accommodate even more vehicles\nPre-Registration at epcommu
 nitypride.wixsite.com\n$5.00 pre-registered        $10 day of show
 \nThis year dash plaques given to the first 100 registered\n2022 Inaug
 ural Show dash plaques to the first 50 returning and registering this 
 year.\nTrophies will be awarded by participants voting\nD/J \"Karaoke 
 by MissT\" providing Music & Announcements \nFOOD TRUCKS present for 
 your refreshments\nALL proceeds from the show go towards FREE activiti
 es throughout the year for the community\nMARK your calendars!   \"F
 un afternoon in the Park\"\nQuestions?  Go to:    epcarshow@gmail.c
 om\n\nFor more information visit https://northeastwheelsevents.com/eve
 nts/east-prospect-community-pride-annual-car-show
DTSTART:20230701T150000Z
DTEND:20230701T200000Z
CATEGORIES:annual, car, show
LOCATION:East Prospect Community Park
WEBSITE:http://epcommunitypride.wixsite.com
URL:http://epcommunitypride.wixsite.com
CONTACT:
ORGANIZER;CN="Barry Strayer":https://northeastwheelsevents.com/profile
 /BarryStrayer
ATTACH;FMTTYPE="image/jpeg":
ATTENDEE;ROLE=REQ-PARTICIPANT;PARTSTAT=ACCEPTED;RSVP=TRUE;CN="Barry St
 rayer":https://northeastwheelsevents.com/profile/BarryStrayer
END:VEVENT
END:VCALENDAR
