BEGIN:VCALENDAR
PRODID:NingEventWidget-v1
VERSION:2.0
METHOD:PUBLISH
BEGIN:VEVENT
UID:5167423:Event:18287
DTSTAMP:20260424T200948Z
SUMMARY:Eastern Shore Corvette Club, 16th Annual Car Show
DESCRIPTION:\nEASTERN SHORE CORVETTE CLUB\n16th ANNUAL CAR SHOW\n \n
 SATURDAY, JUNE 1, 2013\nRAIN DATE: SUNDAY, JUNE 2, 2013\n \nLOCATION:
   REDMEN LODGE\nCLYDE AV. & RT. 13, FRUITLAND, MD\n \nREGISTRATION 9
 :00AM – 12:00PM       \n$10.00 PER VEHICLE\nTROPHIES AWARDED 
 @ 2:00PM\n \nOPEN TO ALL MAKES & MODELS\nCORVETTES WILL BE DISPLAYED 
 AND JUDGED SEPARATLEY\n \nDASH PLAQUES, GOODY BAGS, DOOR PRIZES, 50/5
 0, RAFFLE ITEMS,\nREDMEN LODGE WILL HAVE BREAKFAST AND LUNCH ITEMS\nAV
 AILABLE FOR SALE\n \nALL MONEY RAISED WILL BE DONATED TO:\nHOME OF TH
 E BRAVE,                                      
             LOCATED IN BERLIN, MD\n \nwww.EasternShoreCorvette
 Club.org\n“Like” us on Facebook!\n\nFor more information visit htt
 ps://northeastwheelsevents.com/events/eastern-shore-corvette-club-16th
 -annual-car-show
DTSTART:20130601T130000Z
DTEND:20130601T180000Z
CATEGORIES:car, show
LOCATION:Redmen Lodge #149, Fruitland, MD
WEBSITE:http://www.EasternShoreCorvetteClub.org
URL:http://www.EasternShoreCorvetteClub.org
CONTACT:4432352804
ORGANIZER;CN="Cinda Tindall":https://northeastwheelsevents.com/profile
 /CindaTindall
ATTACH;FMTTYPE="image/jpeg":http://storage.ning.com/topology/rest/1.0/
 file/get/2284053354?profile=original
ATTENDEE;ROLE=REQ-PARTICIPANT;PARTSTAT=ACCEPTED;RSVP=TRUE;CN="Cinda Ti
 ndall":https://northeastwheelsevents.com/profile/CindaTindall
END:VEVENT
END:VCALENDAR
