BEGIN:VCALENDAR
PRODID:NingEventWidget-v1
VERSION:2.0
METHOD:PUBLISH
BEGIN:VEVENT
UID:5167423:Event:149006
DTSTAMP:20260422T213249Z
SUMMARY:Eastern US Pioneers of Hot Rodding Get-Together
DESCRIPTION:COLLECTOR CAR INDUSTRY NEWS Style\nAnnounces the First Eve
 r Eastern US Pioneers of Hot Rodding Get-Together\nThe Meet& Great wil
 l take place during The Dead Mans Curve “Wild Hot Rod Weekend” Lab
 or Day Weekend 2017\nMeet and Great Pioneers of Hot Rodding, Racing an
 d Rodding, Reunite with Your Favorite Speed Shop Patrons, Owners, Race
 rs and Staff members of the Glory days of Speed and Racing East Coast 
 Style. A Presentation of Photos, Cars and Shops time to be announced. 
  Like on Face Book and Follow us on American Rods and Rides. Make you
 r plans early for more information go to The Dead Mans Curve “Wild H
 ot Rod Weekend”\n\nFor more information visit https://northeastwheel
 sevents.com/events/eastern-us-pioneers-of-hot-rodding-get-together
DTSTART:20170901T040000Z
DTEND:20170903T035900Z
CATEGORIES:nastalgic, meet, "&", greet
LOCATION:Mahwah NJ
WEBSITE:https://www.facebook.com/Dead-Mans-Curve-LLC-323534420627/
URL:https://www.facebook.com/Dead-Mans-Curve-LLC-323534420627/
CONTACT:
ORGANIZER:AVM Auiomotive Consulting
ATTACH;FMTTYPE="image/jpeg":http://storage.ning.com/topology/rest/1.0/
 file/get/2284099881?profile=original
ATTENDEE;ROLE=REQ-PARTICIPANT;PARTSTAT=ACCEPTED;RSVP=TRUE;CN=TM:https:
 //northeastwheelsevents.com/profile/TM
END:VEVENT
END:VCALENDAR
