BEGIN:VCALENDAR
PRODID:NingEventWidget-v1
VERSION:2.0
METHOD:PUBLISH
BEGIN:VEVENT
UID:5167423:Event:232245
DTSTAMP:20260423T010510Z
SUMMARY:Eastwood Chevy Cruise In
DESCRIPTION:Bring your Chevy and get a free gift and as always, every 
 car, truck or bike is welcome! Free coffee and donuts for those in att
 endance, so if you skip breakfast because you're so excited to get her
 e, we have you covered! Rain or shine, we will be here! See you then!\
 n\nFor more information visit https://northeastwheelsevents.com/events
 /eastwood-chevy-cruise-in
DTSTART:20190511T120000Z
DTEND:20190511T160000Z
CATEGORIES:car, cruise
LOCATION:Eastwood Pottstown Store
WEBSITE:https://www.facebook.com/events/545654345883691/
URL:https://www.facebook.com/events/545654345883691/
CONTACT:6103269099
ORGANIZER;CN="Jennifer Fuller":https://northeastwheelsevents.com/profi
 le/JenniferFuller
ATTACH;FMTTYPE="image/jpeg":https://storage.ning.com/topology/rest/1.0
 /file/get/843001723?profile=original
ATTENDEE;ROLE=REQ-PARTICIPANT;PARTSTAT=ACCEPTED;RSVP=TRUE;CN="Jennifer
  Fuller":https://northeastwheelsevents.com/profile/JenniferFuller
END:VEVENT
END:VCALENDAR
