BEGIN:VCALENDAR
PRODID:NingEventWidget-v1
VERSION:2.0
METHOD:PUBLISH
BEGIN:VEVENT
UID:5167423:Event:232353
DTSTAMP:20260422T190630Z
SUMMARY:Eastwood Fathers Day Cruise
DESCRIPTION:Bring Dad our for our Father's Day Cruise In! From 8-12 cr
 uise on in and show off your hot rod! No admission fee to get in and e
 veryone is welcome!!\n\nFor more information visit https://northeastwh
 eelsevents.com/events/eastwood-fathers-day-cruise
DTSTART:20190615T120000Z
DTEND:20190615T160000Z
CATEGORIES:car, cruise
LOCATION:Eastwood Pottstown Store
WEBSITE:https://www.facebook.com/events/712058369173189/
URL:https://www.facebook.com/events/712058369173189/
CONTACT:6103239099
ORGANIZER;CN="Jennifer Fuller":https://northeastwheelsevents.com/profi
 le/JenniferFuller
ATTACH;FMTTYPE="image/jpeg":https://storage.ning.com/topology/rest/1.0
 /file/get/843147241?profile=original
ATTENDEE;ROLE=REQ-PARTICIPANT;PARTSTAT=ACCEPTED;RSVP=TRUE;CN="Jennifer
  Fuller":https://northeastwheelsevents.com/profile/JenniferFuller
END:VEVENT
END:VCALENDAR
