BEGIN:VCALENDAR
PRODID:NingEventWidget-v1
VERSION:2.0
METHOD:PUBLISH
BEGIN:VEVENT
UID:5167423:Event:232249
DTSTAMP:20260422T062555Z
SUMMARY:Eastwood Ford Cruise In
DESCRIPTION:Bring your Ford and get a free gift and as always, every c
 ar, truck or bike is welcome! Free coffee and donuts for those in atte
 ndance, so if you skip breakfast because you're so excited to get here
 , we have you covered! Rain or shine, we will be here! See you then!\n
 \nFor more information visit https://northeastwheelsevents.com/events/
 eastwood-ford-cruise-in
DTSTART:20190518T120000Z
DTEND:20190518T160000Z
CATEGORIES:car, cruise
LOCATION:Eastwood Pottstown Store
WEBSITE:https://www.facebook.com/events/291067968176649/
URL:https://www.facebook.com/events/291067968176649/
CONTACT:6103239099
ORGANIZER;CN="Jennifer Fuller":https://northeastwheelsevents.com/profi
 le/JenniferFuller
ATTACH;FMTTYPE="image/jpeg":https://storage.ning.com/topology/rest/1.0
 /file/get/843045998?profile=original
ATTENDEE;ROLE=REQ-PARTICIPANT;PARTSTAT=ACCEPTED;RSVP=TRUE;CN="Jennifer
  Fuller":https://northeastwheelsevents.com/profile/JenniferFuller
END:VEVENT
END:VCALENDAR
