BEGIN:VCALENDAR
PRODID:NingEventWidget-v1
VERSION:2.0
METHOD:PUBLISH
BEGIN:VEVENT
UID:5167423:Event:232349
DTSTAMP:20260420T165346Z
SUMMARY:Eastwood Mopar Cruise In
DESCRIPTION:Bring your Mopar and get a free gift and as always, every 
 car, truck or bike is welcome! Free coffee and donuts for those in att
 endance, so if you skip breakfast because you're so excited to get her
 e, we have you covered! Rain or shine, we will be here! See you then!\
 n\nFor more information visit https://northeastwheelsevents.com/events
 /eastwood-mopar-cruise-in
DTSTART:20190601T120000Z
DTEND:20190601T160000Z
CATEGORIES:car, cruise
LOCATION:Eastwood Pottstown Store
WEBSITE:https://www.facebook.com/events/2133480476901273/
URL:https://www.facebook.com/events/2133480476901273/
CONTACT:6103239099
ORGANIZER;CN="Jennifer Fuller":https://northeastwheelsevents.com/profi
 le/JenniferFuller
ATTACH;FMTTYPE="image/jpeg":https://storage.ning.com/topology/rest/1.0
 /file/get/843105059?profile=original
ATTENDEE;ROLE=REQ-PARTICIPANT;PARTSTAT=ACCEPTED;RSVP=TRUE;CN="Jennifer
  Fuller":https://northeastwheelsevents.com/profile/JenniferFuller
END:VEVENT
END:VCALENDAR
