BEGIN:VCALENDAR
PRODID:NingEventWidget-v1
VERSION:2.0
METHOD:PUBLISH
BEGIN:VEVENT
UID:5167423:Event:172911
DTSTAMP:20260425T123627Z
SUMMARY:Eastwood Season Kick-Off Car Cruise In
DESCRIPTION:Come on in for our first cruise in off the season all cars
  are welcome! Free Admission. Free coffee and donuts!\n\n\n\n\n\n\n\n\
 n\n\n\n\n\n\n\n\n\n\n\n\n\n\n\n\nFor more information visit https://no
 rtheastwheelsevents.com/events/eastwood-season-kick-off-car-cruise-in
DTSTART:20180414T120000Z
DTEND:20180414T160000Z
CATEGORIES:car, cruise
LOCATION:Eastwood
WEBSITE:https://www.facebook.com/events/558023431201166/
URL:https://www.facebook.com/events/558023431201166/
CONTACT:6103239099
ORGANIZER;CN="Jennifer Fuller":https://northeastwheelsevents.com/profi
 le/JenniferFuller
ATTACH;FMTTYPE="image/jpeg":http://storage.ning.com/topology/rest/1.0/
 file/get/2284101213?profile=original
ATTENDEE;ROLE=REQ-PARTICIPANT;PARTSTAT=ACCEPTED;RSVP=TRUE;CN="Jennifer
  Fuller":https://northeastwheelsevents.com/profile/JenniferFuller
END:VEVENT
END:VCALENDAR
