BEGIN:VCALENDAR
PRODID:NingEventWidget-v1
VERSION:2.0
METHOD:PUBLISH
BEGIN:VEVENT
UID:5167423:Event:232428
DTSTAMP:20260419T120747Z
SUMMARY:Eastwood Summer Classic and Swap Meet
DESCRIPTION:Details for July 27th Summer Classic:*Swap Meet will run 8
 am-3pm*More details to be added as they become availableHours*Car Show
 : 7:30am-2:30pm*Rain Date Sunday July 28thRegistration* Stay tuned!Hot
 el Information* Better Quality / 10 miles away / 15 minutes from show*
  Holiday Inn Express - 15 Keystone Dr. Limerick, PA 19468 - 484-932-88
 27* Hampton Inn - 430 Linfield Trappe Rd, Limerick, PA 19468 - 610-495
 -6999Lower Quality / 1-2 miles away / 5 minutes from show* Motel 6 - 7
 8 Robinson St. Pottstown, PA 19464 - 610-819-1288* Comfort Inn - 99 Ro
 binson St. Pottstown, PA 19464 - 610-326-5000* Quality Inn - 61 W. Kin
 g St. Pottstown, PA 19464 - 610-326-6700Awards*Info to comeDemos/Semin
 ars*More info to comeFood Vendors*151 Food Truck*Taste SmokersEntertai
 nment*Virtual Racing from the 3d Property Team -http://the3dpropertyte
 am.com/vr-gaming.html\n\nFor more information visit https://northeastw
 heelsevents.com/events/eastwood-summer-classic-and-swap-meet
DTSTART:20190727T113000Z
DTEND:20190727T183000Z
CATEGORIES:car, show
LOCATION:Eastwood Pottstown Store
WEBSITE:https://www.facebook.com/events/251078368840210/
URL:https://www.facebook.com/events/251078368840210/
CONTACT:6103239099
ORGANIZER;CN="Jennifer Fuller":https://northeastwheelsevents.com/profi
 le/JenniferFuller
ATTACH;FMTTYPE="image/jpeg":https://storage.ning.com/topology/rest/1.0
 /file/get/843396991?profile=original
ATTENDEE;ROLE=REQ-PARTICIPANT;PARTSTAT=ACCEPTED;RSVP=TRUE;CN="Jennifer
  Fuller":https://northeastwheelsevents.com/profile/JenniferFuller
END:VEVENT
END:VCALENDAR
