BEGIN:VCALENDAR
PRODID:NingEventWidget-v1
VERSION:2.0
METHOD:PUBLISH
BEGIN:VEVENT
UID:5167423:Event:318269
DTSTAMP:20260423T020340Z
SUMMARY:Electric Vehicle Show- Wells, Maine
DESCRIPTION:Wells Maine Electric Vehicle Show\nThe Wells Energy Adviso
 ry Committee will hold its 3rd annual, free electric vehicle show at t
 he Wells Public Library on Sunday, September 10, 1-4 PM, rain or shine
 . Provided they have them in stock, many local car dealers will be bri
 nging electric vehicles for public inspection. Test drives will be pos
 sible for several models.\nLocal EV owners and organizations will also
  be on hand to show their cars and discuss the pros and cons of going 
 electric in Maine.\n\nFor more information visit https://northeastwhee
 lsevents.com/events/electric-vehicle-show-wells-maine
DTSTART:20230910T170000Z
DTEND:20230910T200000Z
CATEGORIES:electric, vehicle, show
LOCATION:Wells Public Library
WEBSITE:
URL:
CONTACT:603-487-5157
ORGANIZER;CN="Beth Widmayer":https://northeastwheelsevents.com/profile
 /BethWidmayer
ATTACH;FMTTYPE="image/jpeg":https://storage.ning.com/topology/rest/1.0
 /file/get/12167764058?profile=original
ATTENDEE;ROLE=REQ-PARTICIPANT;PARTSTAT=ACCEPTED;RSVP=TRUE;CN="Beth Wid
 mayer":https://northeastwheelsevents.com/profile/BethWidmayer
END:VEVENT
END:VCALENDAR
