BEGIN:VCALENDAR
PRODID:NingEventWidget-v1
VERSION:2.0
METHOD:PUBLISH
BEGIN:VEVENT
UID:5167423:Event:182838
DTSTAMP:20260422T062246Z
SUMMARY:Elegance At Hershey
DESCRIPTION:Concours de'elegance\n\nFor more information visit https:/
 /northeastwheelsevents.com/events/elegance-at-hershey-1
DTSTART:20180610T130000Z
DTEND:20180610T200000Z
CATEGORIES:concours
LOCATION:Hershey Hotel
WEBSITE:
URL:
CONTACT:717 500-5191
ORGANIZER:Elegance At Hershey
ATTACH;FMTTYPE="image/jpeg":http://storage.ning.com/topology/rest/1.0/
 file/get/2284105455?profile=original
ATTENDEE;ROLE=REQ-PARTICIPANT;PARTSTAT=ACCEPTED;RSVP=TRUE;CN="Car Show
 s Little Helper":https://northeastwheelsevents.com/profile/CarShowsLit
 tleHelper
END:VEVENT
END:VCALENDAR
