BEGIN:VCALENDAR
PRODID:NingEventWidget-v1
VERSION:2.0
METHOD:PUBLISH
BEGIN:VEVENT
UID:5167423:Event:149028
DTSTAMP:20260420T220333Z
SUMMARY:Elegance At Hershey
DESCRIPTION:Concours d'Elegance\n\nFor more information visit https://
 northeastwheelsevents.com/events/elegance-at-hershey
DTSTART:20170611T130000Z
DTEND:20170611T200000Z
CATEGORIES:concours, "d'", elegance
LOCATION:Hershey Hotel
WEBSITE:http://theeleganceathershey.com/event/
URL:http://theeleganceathershey.com/event/
CONTACT:(717) 534-1910 Fax: (717) 534-9101
ORGANIZER:AACA
ATTACH;FMTTYPE="image/jpeg":
ATTENDEE;ROLE=REQ-PARTICIPANT;PARTSTAT=ACCEPTED;RSVP=TRUE;CN="Pamela H
 irschhorn":https://northeastwheelsevents.com/profile/PamelaHirschhorn
END:VEVENT
END:VCALENDAR
