BEGIN:VCALENDAR
PRODID:NingEventWidget-v1
VERSION:2.0
METHOD:PUBLISH
BEGIN:VEVENT
UID:5167423:Event:77914
DTSTAMP:20260422T001502Z
SUMMARY:Elk County Cruisers - Country Pines Cruise In
DESCRIPTION:Country Pines Cruise In. East of Kane on Route 6 before th
 e Kane Family Drive In. \n\nFor more information visit https://northe
 astwheelsevents.com/events/elk-county-cruisers-country-pines-cruise-in
DTSTART:20150717T230000Z
DTEND:20150718T010000Z
CATEGORIES:cruise, in
LOCATION:Country Pines Ice Cream Shop
WEBSITE:
URL:
CONTACT:
ORGANIZER;CN="Troy Feldbauer":https://northeastwheelsevents.com/profil
 e/TroyFeldbauer
ATTACH;FMTTYPE="image/jpeg":http://storage.ning.com/topology/rest/1.0/
 file/get/2284072322?profile=original
ATTENDEE;ROLE=REQ-PARTICIPANT;PARTSTAT=ACCEPTED;RSVP=TRUE;CN="Troy Fel
 dbauer":https://northeastwheelsevents.com/profile/TroyFeldbauer
END:VEVENT
END:VCALENDAR
