BEGIN:VCALENDAR
PRODID:NingEventWidget-v1
VERSION:2.0
METHOD:PUBLISH
BEGIN:VEVENT
UID:5167423:Event:71097
DTSTAMP:20260421T093103Z
SUMMARY:Elmcroft of Reading - Car Show
DESCRIPTION:Car%20Show%20Flyer%204th%20annual%202015.docx\n\nFor more 
 information visit https://northeastwheelsevents.com/events/elmcroft-of
 -reading-car-show
DTSTART:20150619T213000Z
DTEND:20150620T000000Z
CATEGORIES:car, show, to, benefit, berks, encore, for, seniors
LOCATION:Elmcroft of Reading
WEBSITE:
URL:
CONTACT:610 - 370- 2211
ORGANIZER;CN="Fran Burkhart":https://northeastwheelsevents.com/profile
 /FranBurkhart
ATTACH;FMTTYPE="image/jpeg":
ATTENDEE;ROLE=REQ-PARTICIPANT;PARTSTAT=ACCEPTED;RSVP=TRUE;CN="Fran Bur
 khart":https://northeastwheelsevents.com/profile/FranBurkhart
END:VEVENT
END:VCALENDAR
