BEGIN:VCALENDAR
PRODID:NingEventWidget-v1
VERSION:2.0
METHOD:PUBLISH
BEGIN:VEVENT
UID:5167423:Event:328807
DTSTAMP:20260421T105643Z
SUMMARY:Engines &amp; Eats
DESCRIPTION:Join us on June 16th, 2024, from 11 AM to 4 PM, for an unf
 orgettable day filled with classic, vintage, and modern automobiles, d
 elicious food, and a vibrant community of car enthusiasts. Our Engines
  & Eats Car Show is the perfect blend of horsepower and hospitality, t
 aking place at Bousquet Mountain! \n\nThis event is open to all makes
 , models, and years of vehicles, from timeless classics to cutting-edg
 e supercars. \n\nAs a special bonus, all car show participants will r
 eceive a 50% off voucher for an appetizer at our restaurant. Indulge i
 n our mouthwatering selection of starters while exchanging stories and
  tips with fellow car lovers.\n\nDon't miss this opportunity to spend 
 a day surrounded by automotive beauty and culinary delights. Mark your
  calendars for June 16th, and get ready to experience the perfect fusi
 on of Engines & Eats!\n\nFor more information visit https://northeastw
 heelsevents.com/events/engines-amp-eats
DTSTART:20240616T150000Z
DTEND:20240616T200000Z
CATEGORIES:car, show
LOCATION:Bousquet Mountain
WEBSITE:https://bousquetmountain.com/event/engines-eats-car-show-3/
URL:https://bousquetmountain.com/event/engines-eats-car-show-3/
CONTACT:4134422436
ORGANIZER;CN="Eliza Lindberg":https://northeastwheelsevents.com/profil
 e/ElizaLindberg
ATTACH;FMTTYPE="image/jpeg":https://storage.ning.com/topology/rest/1.0
 /file/get/12639859098?profile=original
ATTENDEE;ROLE=REQ-PARTICIPANT;PARTSTAT=ACCEPTED;RSVP=TRUE;CN="Eliza Li
 ndberg":https://northeastwheelsevents.com/profile/ElizaLindberg
END:VEVENT
END:VCALENDAR
