BEGIN:VCALENDAR
PRODID:NingEventWidget-v1
VERSION:2.0
METHOD:PUBLISH
BEGIN:VEVENT
UID:5167423:Event:334796
DTSTAMP:20260423T165357Z
SUMMARY:Engines For Kim
DESCRIPTION:All types of cars, trucks and bikes allowed! All money rai
 sed will help Kim Nespoli fight Stage 4 Metastatic Breast Cancer. $10 
 registration fee. Dash plaques to first 35 registrants! Food- Music- A
 wards- Fun for all!  Contact us for more info. \n\nFor more informat
 ion visit https://northeastwheelsevents.com/events/engines-for-kim
DTSTART:20241012T150000Z
DTEND:20241012T200000Z
CATEGORIES:carshow, benefit
LOCATION:May's Drive In Restaurant
WEBSITE:https://allevents.in/berwick/engines-for-kim/200027203163534
URL:https://allevents.in/berwick/engines-for-kim/200027203163534
CONTACT:570-752-4824
ORGANIZER:May's Drive In Restaurant
ATTACH;FMTTYPE="image/jpeg":https://storage.ning.com/topology/rest/1.0
 /file/get/13001871279?profile=original
ATTENDEE;ROLE=REQ-PARTICIPANT;PARTSTAT=ACCEPTED;RSVP=TRUE;CN="William 
 Bruce":https://northeastwheelsevents.com/profile/WilliamBruce
END:VEVENT
END:VCALENDAR
