BEGIN:VCALENDAR
PRODID:NingEventWidget-v1
VERSION:2.0
METHOD:PUBLISH
BEGIN:VEVENT
UID:5167423:Event:173530
DTSTAMP:20260422T091356Z
SUMMARY:Enola Sportsmen's Annual Car Show
DESCRIPTION:Top 25 vehicles will receive plaques. Special awards for b
 est of show car, truck and bike. Judging done by participants only. Re
 gistration 8am-11am Voting 11-1pm Awards at 2:30pm approximately. Food
  and beverages available provided by the Lady's Auxiliary. Race welcom
 e!! Door prizes. Dash plaques to the first 100 vehicles. DJ on deck. R
 egistration fees $10. Spectators free. Over 120 cars, trucks, bikes an
 d race cars last year!!!!  Supports Youth Day to benefit hunting and 
 fishing safety courses and wildlife conservation.  RAIN or SHINE. Pla
 n to enjoy a great breakfast at the show!!! Bacon, eggs, hash browns, 
 oh my!\n\nFor more information visit https://northeastwheelsevents.com
 /events/enola-sportsmen-s-annual-car-show
DTSTART:20180616T120000Z
DTEND:20180616T190000Z
CATEGORIES:car, show
LOCATION:Enola Sportsmen's Association
WEBSITE:http://www.enolasportsmen.org
URL:http://www.enolasportsmen.org
CONTACT:717 732-9927 or Spike at 717 991-1284
ORGANIZER:Enola Sportsmen's Association
ATTACH;FMTTYPE="image/jpeg":http://storage.ning.com/topology/rest/1.0/
 file/get/2284101410?profile=original
ATTENDEE;ROLE=REQ-PARTICIPANT;PARTSTAT=ACCEPTED;RSVP=TRUE;CN="Michael 
 Kissinger":https://northeastwheelsevents.com/profile/MichaelKissinger
ATTENDEE;ROLE=REQ-PARTICIPANT;PARTSTAT=ACCEPTED;RSVP=TRUE;CN="Car Show
 s Little Helper":https://northeastwheelsevents.com/profile/CarShowsLit
 tleHelper
ATTENDEE;ROLE=REQ-PARTICIPANT;PARTSTAT=ACCEPTED;RSVP=TRUE;CN="R Keith 
 Strayer":https://northeastwheelsevents.com/profile/RKeithStrayer
ATTENDEE;ROLE=REQ-PARTICIPANT;PARTSTAT=TENTATIVE;RSVP=TRUE;CN="David W
  Blankenhorn":https://northeastwheelsevents.com/profile/DavidWBlankenh
 orn
END:VEVENT
END:VCALENDAR
