BEGIN:VCALENDAR
PRODID:NingEventWidget-v1
VERSION:2.0
METHOD:PUBLISH
BEGIN:VEVENT
UID:5167423:Event:337289
DTSTAMP:20260424T131640Z
SUMMARY:Enola Sportsmen's Club Annual Car Show  Rain or Shine
DESCRIPTION:All Cars, Customs, Rods, Modern Muscle, Classics, Rat Rods
 , Trucks, Bikes and even a few pre war classics!!!  Everyone enjoys a
  great day at the Enola Sportsmen's Club. Great, hot breakfast, Lunch 
 special, full cash bar. Kids can play in the playground or go fishing 
 in the trout pond ( with adult supervision ). DJ, door prizes. A GREAT
  SHOW for all!!\r\n\r\nRAIN or SHINE\r\n\r\nDay of show registration o
 nly.   8am - 10am. \r\nRegistration: $15 \r\n\r\nVoting 11-1pm by sp
 ectators. 30 awards, 100 dash plaques.  \r\n\r\nRain or Shine! \r\n
 \n\nFor more information visit https://northeastwheelsevents.com/event
 s/enola-sportsmen-s-club-annual-car-show-1
DTSTART:20260627T120000Z
DTEND:20260627T190000Z
CATEGORIES:car, show
LOCATION:Enola Sportsmen's Club
WEBSITE:
URL:
CONTACT:Spike Strayer 717 991-1284
ORGANIZER:Spike Strayer
ATTACH;FMTTYPE="image/jpeg":https://storage.ning.com/topology/rest/1.0
 /file/get/13432905675?profile=original
ATTENDEE;ROLE=REQ-PARTICIPANT;PARTSTAT=ACCEPTED;RSVP=TRUE;CN="Richard 
 Ball jr":https://northeastwheelsevents.com/profile/RichardBalljr
ATTENDEE;ROLE=REQ-PARTICIPANT;PARTSTAT=ACCEPTED;RSVP=TRUE;CN="Pamela H
 irschhorn":https://northeastwheelsevents.com/profile/PamelaHirschhorn
ATTENDEE;ROLE=REQ-PARTICIPANT;PARTSTAT=TENTATIVE;RSVP=TRUE;CN="William
  Bruce":https://northeastwheelsevents.com/profile/WilliamBruce
END:VEVENT
END:VCALENDAR
