BEGIN:VCALENDAR
PRODID:NingEventWidget-v1
VERSION:2.0
METHOD:PUBLISH
BEGIN:VEVENT
UID:5167423:Event:247918
DTSTAMP:20260422T234820Z
SUMMARY:Fairway Chevrolet Corvette Show
DESCRIPTION:Fairway Chevrolet Annual Corvette Show\n\nFor more informa
 tion visit https://northeastwheelsevents.com/events/fairway-chevrolet-
 corvette-show
DTSTART:20190615T150000Z
DTEND:20190615T183000Z
CATEGORIES:corvette, show
LOCATION:Fairway Chevrolet Route 309 Hazleton, Pa 18201
WEBSITE:
URL:
CONTACT:570-455-7701
ORGANIZER;CN="Edward Hurst":https://northeastwheelsevents.com/profile/
 EdwardHurst
ATTACH;FMTTYPE="image/jpeg":
ATTENDEE;ROLE=REQ-PARTICIPANT;PARTSTAT=ACCEPTED;RSVP=TRUE;CN="Edward H
 urst":https://northeastwheelsevents.com/profile/EdwardHurst
END:VEVENT
END:VCALENDAR
