BEGIN:VCALENDAR
PRODID:NingEventWidget-v1
VERSION:2.0
METHOD:PUBLISH
BEGIN:VEVENT
UID:5167423:Event:345636
DTSTAMP:20260424T211220Z
SUMMARY:Fall Carlisle
DESCRIPTION:Save the date for Fall Carlisle presented by Hemmings, hap
 pening September 30 – October 4, 2026. As the grand finale of the Ca
 rlisle Events calendar, this massive automotive flea market marks the 
 end of an exciting show season and provides the perfect solution to th
 e winter non-picking blues. With an impressive 8,100 vendor spaces, Fa
 ll Carlisle becomes a haven for automotive enthusiasts, featuring a wi
 de range of parts, accessories, cars, collectibles, and memorabilia. I
 t’s an excellent opportunity to discover rare finds and enhance your
  automotive collection. In addition to the expansive flea market and c
 ar corral, explore the Manufacturers Midway, showcasing the latest pro
 ducts and services in the industry.\n\nAcross the street at the Carlis
 le Expo Center, the Fall Carlisle Collector Car Auction runs from Octo
 ber 1-2. This auction, held alongside Fall Carlisle, offers enthusiast
 s a chance to buy and admire classic cars. More than just an event, Fa
 ll Carlisle is a destination where passion meets commerce, ensuring ev
 ery visitor finds something to fuel their love for automobiles.\n\nFor
  more information visit https://northeastwheelsevents.com/events/fall-
 carlisle-10
DTSTART:20260930T040000Z
DTEND:20261005T035900Z
CATEGORIES:swap, meet, car, corral, auction, automotive, flea, market
LOCATION:Carlisle Fairgrounds
WEBSITE:https://carlisleevents.com/events/events-detail/index?id=fall+
 carlisle
URL:https://carlisleevents.com/events/events-detail/index?id=fall+carl
 isle
CONTACT:7172437855
ORGANIZER;CN="Carlisle Events":https://northeastwheelsevents.com/profi
 le/MichaelGarland
ATTACH;FMTTYPE="image/jpeg":https://storage.ning.com/topology/rest/1.0
 /file/get/13741103077?profile=original
ATTENDEE;ROLE=REQ-PARTICIPANT;PARTSTAT=ACCEPTED;RSVP=TRUE;CN="Carlisle
  Events":https://northeastwheelsevents.com/profile/MichaelGarland
END:VEVENT
END:VCALENDAR
