BEGIN:VCALENDAR
PRODID:NingEventWidget-v1
VERSION:2.0
METHOD:PUBLISH
BEGIN:VEVENT
UID:5167423:Event:257908
DTSTAMP:20260425T170415Z
SUMMARY:Fall Carlisle
DESCRIPTION:Join us at Fall Carlisle and you'll experience a massive a
 utomotive flea market like no other! Explore the 82 acres of the Carli
 sle PA Fairgrounds that is made up of 8,100 spaces of vendors selling 
 anything from automotive parts, accessories, cars, collectibles, memor
 abilia and more. Another special feature is the Manufacturers Midway, 
 full of all the latest and greatest products & services. Accompanying 
 the automotive flea market across the street, is the two-day Fall Carl
 isle Auction, with over 500 consignments going across the block! Put o
 n your comfy shoes and come on out to Fall Carlisle!\n\nFor more infor
 mation visit https://northeastwheelsevents.com/events/fall-carlisle-4
DTSTART:20200930T110000Z
DTEND:20201004T160000Z
CATEGORIES:swap, meet, car, corral, auction
LOCATION:Carlisle PA Fairgrounds
WEBSITE:https://www.carlisleevents.com/events/events-detail/index?id=f
 all+carlisle
URL:https://www.carlisleevents.com/events/events-detail/index?id=fall+
 carlisle
CONTACT:7172437855
ORGANIZER:Carlisle Events
ATTACH;FMTTYPE="image/jpeg":https://storage.ning.com/topology/rest/1.0
 /file/get/4422324427?profile=original
ATTENDEE;ROLE=REQ-PARTICIPANT;PARTSTAT=ACCEPTED;RSVP=TRUE;CN="Carlisle
  Events":https://northeastwheelsevents.com/profile/MichaelGarland
END:VEVENT
END:VCALENDAR
