BEGIN:VCALENDAR
PRODID:NingEventWidget-v1
VERSION:2.0
METHOD:PUBLISH
BEGIN:VEVENT
UID:5167423:Event:173624
DTSTAMP:20260425T085823Z
SUMMARY:Fall Carlisle Auction
DESCRIPTION:Like \"Carlisle Auctions\" on Facebook for ALL event updat
 es & information!!\n\nBe part of the auction excitement on Thursday, F
 riday and Saturday of Fall Carlisle at the neighboring Carlisle Expo C
 enter for the ever-popular collector car auction. This auction sees ov
 er 500 cars cross the block. In addition, Carlisle Events and Carlisle
  Auctions are pleased to implement a \"Free Unless Sold\" guarantee.Th
 e policy means almost literally what it states. Any consigned collecto
 r car (25 years or older) that does not sell as part of the auction 
 will see most of the registration fees refunded to the consignee. Cert
 ain exceptions apply as it relates to refunds. Fees must be paid at th
 e time of registration, either onsite or in advance, but no matter the
  time slot the vehicle runs, if it is 25 years or older and doesn't se
 ll, it's free! In addition to offering \"Free Unless Sold,\" Carlisle
  Events and Carlisle Auctions are also offering special \"feature vehi
 cle\" slots. These slots are limited, but if selected, will be positio
 ned within the Carlisle Expo Center. When applying to consign, select 
 \"feature vehicle\" within the registration paperwork. At that point, 
 the Carlisle Auctions' team will make a determination on inclusion.If 
 accepted, the fee is $600 ($400 for the consignment and $200 for featu
 red status). If the featured consignment doesn't sell, only the $400 c
 onsignment fee is refunded (call for details).Finally, if you are wond
 ering what type of collector cars are available, the categories freque
 ntly look like this: Muscle Car, Street Rod, Classic Car, Antique, Lux
 ury, Exotic, Race Car, Sports Car, Specialty Truck and Motorcycle.Auct
 ion information, including consignments and forms are available via th
 e Carlisle Auctions web page (link below). In the meanwhile, if you ar
 e interested in machines that fall in the aforementioned groups or you
  have something you'd like to consign, contact one of our Auction Spec
 ialists at 717-960-6400.Click here to view auction consignments.The C
 arlisle Expo Center is located on K street, 1 1/2 blocks outside Gate 
 3.\n\nFor more information visit https://northeastwheelsevents.com/eve
 nts/fall-carlisle-auction
DTSTART:20181004T040000Z
DTEND:20181007T035900Z
CATEGORIES:auction
LOCATION:Carlisle Expo Center
WEBSITE:http://www.carlisleauctions.com/
URL:http://www.carlisleauctions.com/
CONTACT:7172437855
ORGANIZER:Carlisle Auctions
ATTACH;FMTTYPE="image/jpeg":http://storage.ning.com/topology/rest/1.0/
 file/get/2284101374?profile=original
ATTENDEE;ROLE=REQ-PARTICIPANT;PARTSTAT=ACCEPTED;RSVP=TRUE;CN="Carlisle
  Events":https://northeastwheelsevents.com/profile/MichaelGarland
END:VEVENT
END:VCALENDAR
