BEGIN:VCALENDAR
PRODID:NingEventWidget-v1
VERSION:2.0
METHOD:PUBLISH
BEGIN:VEVENT
UID:5167423:Event:257912
DTSTAMP:20260425T140323Z
SUMMARY:Fall Carlisle Collector Car Auction
DESCRIPTION:Be part of the auction excitement at the Fall Carlisle Col
 lector Car Auction held at the Carlisle Expo Center in Carlisle, PA. T
 his 2-day auction sees 500+ classic and collector cars across the bloc
 k! In conjunction with the auction is the neighboring Fall Carlisle, a
  massive automotive flea market! Register to bid or consign at www.car
 lisleauctions.com\n\nFor more information visit https://northeastwheel
 sevents.com/events/fall-carlisle-collector-car-auction-1
DTSTART:20201001T160000Z
DTEND:20201003T000000Z
CATEGORIES:swap, meet, car, corral, auction
LOCATION:Carlisle Expo Center
WEBSITE:http://www.carlisleauctions.com
URL:http://www.carlisleauctions.com
CONTACT:7179606400
ORGANIZER:Carlisle Auctions
ATTACH;FMTTYPE="image/jpeg":https://storage.ning.com/topology/rest/1.0
 /file/get/4422327721?profile=original
ATTENDEE;ROLE=REQ-PARTICIPANT;PARTSTAT=ACCEPTED;RSVP=TRUE;CN="Carlisle
  Events":https://northeastwheelsevents.com/profile/MichaelGarland
END:VEVENT
END:VCALENDAR
