BEGIN:VCALENDAR
PRODID:NingEventWidget-v1
VERSION:2.0
METHOD:PUBLISH
BEGIN:VEVENT
UID:5167423:Event:345515
DTSTAMP:20260424T175213Z
SUMMARY:Fall Carlisle Collector Car Auction
DESCRIPTION:Join Carlisle Auctions for the Fall Carlisle Collector Car
  Auction on October 1-2, 2026, at the Carlisle Expo Center during Fall
  Carlisle! Featuring over 400 consignments, this auction promises an e
 xciting display of automotive history. Starting at 10AM each day, bidd
 ers can participate by phone, online, or in person—making it accessi
 ble to everyone. Whether you're an experienced collector or making you
 r first purchase, Carlisle Auctions' expert team is here to ensure a s
 eamless experience. With decades of knowledge, they are ready to guide
  you in securing the best placement and pricing for your consignment. 
 Don't miss your chance to own a piece of history—REGISTER TO BID tod
 ay!\n\nFor more information visit https://northeastwheelsevents.com/ev
 ents/fall-carlisle-collector-car-auction-7
DTSTART:20261001T040000Z
DTEND:20261003T035900Z
CATEGORIES:swap, meet, car, corral, auction, automotive, flea, market
LOCATION:Carlisle Expo Center
WEBSITE:https://carlisleauctions.com/
URL:https://carlisleauctions.com/
CONTACT:7179606400
ORGANIZER;CN="Carlisle Events":https://northeastwheelsevents.com/profi
 le/MichaelGarland
ATTACH;FMTTYPE="image/jpeg":https://storage.ning.com/topology/rest/1.0
 /file/get/13741103492?profile=original
ATTENDEE;ROLE=REQ-PARTICIPANT;PARTSTAT=ACCEPTED;RSVP=TRUE;CN="Carlisle
  Events":https://northeastwheelsevents.com/profile/MichaelGarland
END:VEVENT
END:VCALENDAR
