BEGIN:VCALENDAR
PRODID:NingEventWidget-v1
VERSION:2.0
METHOD:PUBLISH
BEGIN:VEVENT
UID:5167423:Event:316772
DTSTAMP:20260422T135305Z
SUMMARY:Fall Crawl 2023
DESCRIPTION:Our second annual Fall Crawl to benefit the American Found
 ation for Suicide Prevention.  We will have lots of cars, trucks, mot
 orcycles and more!  $10 entry fee per vehicle.  We will also have ve
 ndors, food trucks and raffle items.  100% of the profits will be don
 ated directly to AFSP.\n\nFor more information visit https://northeast
 wheelsevents.com/events/fall-crawl-2023
DTSTART:20230930T150000Z
DTEND:20230930T200000Z
CATEGORIES:fundraiser, for, american, foundation, suicide, prevention
LOCATION:Marge Goodfellow Park
WEBSITE:
URL:
CONTACT:
ORGANIZER;CN="Rachel Carter":https://northeastwheelsevents.com/profile
 /RachelCarter
ATTACH;FMTTYPE="image/jpeg":https://storage.ning.com/topology/rest/1.0
 /file/get/12131896061?profile=original
ATTENDEE;ROLE=REQ-PARTICIPANT;PARTSTAT=ACCEPTED;RSVP=TRUE;CN="Rachel C
 arter":https://northeastwheelsevents.com/profile/RachelCarter
END:VEVENT
END:VCALENDAR
