BEGIN:VCALENDAR
PRODID:NingEventWidget-v1
VERSION:2.0
METHOD:PUBLISH
BEGIN:VEVENT
UID:5167423:Event:334484
DTSTAMP:20260423T051618Z
SUMMARY:Fall Festival and Car Show
DESCRIPTION:Join us for a fun-filled day at the Fall Festival & Car Sh
 ow, featuring classic cars, delicious food, and exciting activities fo
 r all ages! Sunday, October 13 · 11am - 4pm EDT.\r\nWhether you're a
  car enthusiast or just looking for a good time, this event has someth
 ing for everyone. Don't miss out on the chance to experience the vibra
 nt atmosphere of our Fall Festival and Car Show. Mark your calendars a
 nd bring your friends and family along for a memorable day!\r\n**Vendo
 rs and Classic Car particpants are still being accepted. Email marketi
 ng@newtontownhall.com for an application! https://www.newtontownhall.
 com/\n\nFor more information visit https://northeastwheelsevents.com/e
 vents/fall-festival-and-car-show
DTSTART:20241013T150000Z
DTEND:20241013T200000Z
CATEGORIES:carshow, festival
LOCATION:Newton
WEBSITE:https://www.eventbrite.com/e/fall-festival-and-car-show-ticket
 s-1020869105977
URL:https://www.eventbrite.com/e/fall-festival-and-car-show-tickets-10
 20869105977
CONTACT:973-383-3521
ORGANIZER:Town of Newton
ATTACH;FMTTYPE="image/jpeg":https://storage.ning.com/topology/rest/1.0
 /file/get/12958783058?profile=original
ATTENDEE;ROLE=REQ-PARTICIPANT;PARTSTAT=ACCEPTED;RSVP=TRUE;CN="William 
 Bruce":https://northeastwheelsevents.com/profile/WilliamBruce
END:VEVENT
END:VCALENDAR
