BEGIN:VCALENDAR
PRODID:NingEventWidget-v1
VERSION:2.0
METHOD:PUBLISH
BEGIN:VEVENT
UID:5167423:Event:102236
DTSTAMP:20260424T161706Z
SUMMARY:Fall Florida Autofest Lakeland
DESCRIPTION:The weekend plays host to thousands of collector and class
 ic automotive enthusiasts who will come to SUN ‘n FUN complex for on
 e of the largest automotive swap meets in the region. In addition, the
 re are classic cars and trucks available within the car corral or enjo
 y a thrilling collector car auction presented by Carlisle Auctions. No
 t only is there multiple forms of automobilia for sale, you can check 
 out or be part of a classic car show. Throughout the weekend, hundreds
  of classics, spanning generations of production, will be on display w
 ith awards presented at the conclusion of the event. In addition, ther
 e’s a great array of food, games, displays, guests and more. Nov 10-
 13, 2016.\n\nFor more information visit https://northeastwheelsevents.
 com/events/fall-florida-autofest-lakeland
DTSTART:20161110T120000Z
DTEND:20161113T220000Z
CATEGORIES:car, show
LOCATION:Lakeland, Florida
WEBSITE:http://www.carlisleevents.com/carlisle-events/fall-florida-aut
 ofest/default.aspx
URL:http://www.carlisleevents.com/carlisle-events/fall-florida-autofes
 t/default.aspx
CONTACT:7172437855
ORGANIZER:Carlisle Events
ATTACH;FMTTYPE="image/jpeg":
ATTENDEE;ROLE=REQ-PARTICIPANT;PARTSTAT=ACCEPTED;RSVP=TRUE;CN="Carlisle
  Events":https://northeastwheelsevents.com/profile/MichaelGarland
END:VEVENT
END:VCALENDAR
