BEGIN:VCALENDAR
PRODID:NingEventWidget-v1
VERSION:2.0
METHOD:PUBLISH
BEGIN:VEVENT
UID:5167423:Event:342061
DTSTAMP:20260424T023958Z
SUMMARY:Fall Harvest Cruise-In
DESCRIPTION:The Mayfield Historical Society will be hosting its Annual
  Fall Harvest Cruise-In at The Rice Homestead, 328 Riceville Road, May
 field, NY. Sat. Oct. 04 2025 at 12:00 pm to 04:00 pm.  All antique an
 d hot rod vehicles are welcome. Cruise-in vehicles get a free hot dog 
 and beverage. Free admission for all. Event features: Hot dogs with Le
 e's Snack Bar's Famous Meat Sauce, cider & donuts, farm produce, free 
 tours of the Rice Homestead, Oliver's Nature Trail, Make Your Own Sund
 aes! Musician Dan Lynaugh will be performing. For Cruise-In vehicle pr
 e-registration or for more info, please call Bob Suits at 518-857-2820
 . \r\n\n\nFor more information visit https://northeastwheelsevents.co
 m/events/fall-harvest-cruise-in-1
DTSTART:20251004T160000Z
DTEND:20251004T200000Z
CATEGORIES:cruisein
LOCATION:Rice Homestead
WEBSITE:https://www.facebook.com/events/the-rice-homestead/fall-harves
 t-cruise-in/1148089557126082/
URL:https://www.facebook.com/events/the-rice-homestead/fall-harvest-cr
 uise-in/1148089557126082/
CONTACT:518-857-2820
ORGANIZER:Mayfield Historical Society/ Bob Suits
ATTACH;FMTTYPE="image/jpeg":https://storage.ning.com/topology/rest/1.0
 /file/get/13660289074?profile=original
ATTENDEE;ROLE=REQ-PARTICIPANT;PARTSTAT=ACCEPTED;RSVP=TRUE;CN="William 
 Bruce":https://northeastwheelsevents.com/profile/WilliamBruce
END:VEVENT
END:VCALENDAR
