BEGIN:VCALENDAR
PRODID:NingEventWidget-v1
VERSION:2.0
METHOD:PUBLISH
BEGIN:VEVENT
UID:5167423:Event:335299
DTSTAMP:20260422T225928Z
SUMMARY:Fall Harvest Fest Car Cruise
DESCRIPTION:Event Specialties:Trunk or Treat, Games, Food, Music!\r\nC
 ar Cruise open to: All Vehicles Antiques, Classics, Competition Cars
 , Customs, Exotics,  Sport Cars, Hot Rods & Street Rods, Imports,
  Mini/Micro Cars, Muscle Cars, Trucks, Vans, Tuner Cars, and Bikes
 .\r\nEmail: villacapripa@gmail.com\r\nDress up in costume, bring the 
 kids and have fun! \n\nFor more information visit https://northeastwh
 eelsevents.com/events/fall-harvest-fest-car-cruise
DTSTART:20241025T220000Z
DTEND:20241026T003000Z
CATEGORIES:trunkortreat, cruise-in
LOCATION:Peckville Assembly of God Church
WEBSITE:https://villacapricruisers.org/events
URL:https://villacapricruisers.org/events
CONTACT:(570) - 677 - 3878
ORGANIZER:The Villa Capri Car Cruisers
ATTACH;FMTTYPE="image/jpeg":https://storage.ning.com/topology/rest/1.0
 /file/get/13025522064?profile=original
ATTENDEE;ROLE=REQ-PARTICIPANT;PARTSTAT=ACCEPTED;RSVP=TRUE;CN="William 
 Bruce":https://northeastwheelsevents.com/profile/WilliamBruce
END:VEVENT
END:VCALENDAR
