BEGIN:VCALENDAR
PRODID:NingEventWidget-v1
VERSION:2.0
METHOD:PUBLISH
BEGIN:VEVENT
UID:5167423:Event:124026
DTSTAMP:20260421T045146Z
SUMMARY:Fall Mustang Nationals
DESCRIPTION:Fall Mustang Nationals is an all Mustang Car Show with ov
 er 30 classes at the Sawmill Café in Seaside Park. Show will featur
 e ocean front parking on the boardwalk as well as surrounding lots. K
 ick off party on Friday October, 21st at 9PM at the Sawmill Café wit
 h ocean front views. The show will be benefiting Stage 4 brain cancer 
 (Glioblastoma Multiforme) Also planned for the event is a pumpkin carv
 ing contest, costume contest for kids, pizza eating contest, and chari
 ty volleyball game. For more information please visit us at https://ww
 w.fallmustangnationals.com/\n\nFor more information visit https://nort
 heastwheelsevents.com/events/fall-mustang-nationals
DTSTART:20161022T130000Z
DTEND:20161022T210000Z
CATEGORIES:charity, benefiting, brain, cancer
LOCATION:The Sawmill Cafe
WEBSITE:https://www.fallmustangnationals.com/
URL:https://www.fallmustangnationals.com/
CONTACT:
ORGANIZER;CN="PJ Spinella":https://northeastwheelsevents.com/profile/P
 JSpinella
ATTACH;FMTTYPE="image/jpeg":http://storage.ning.com/topology/rest/1.0/
 file/get/2284090037?profile=original
ATTENDEE;ROLE=REQ-PARTICIPANT;PARTSTAT=ACCEPTED;RSVP=TRUE;CN="PJ Spine
 lla":https://northeastwheelsevents.com/profile/PJSpinella
END:VEVENT
END:VCALENDAR
