BEGIN:VCALENDAR
PRODID:NingEventWidget-v1
VERSION:2.0
METHOD:PUBLISH
BEGIN:VEVENT
UID:5167423:Event:314805
DTSTAMP:20260422T201146Z
SUMMARY:Fall Weatherly Hillclimb
DESCRIPTION:Please join us for the Fall Weatherly Hillclimb, which wil
 l be held Sep 16-17, 2023 in Weatherly, PA. This is the eighth and fin
 al event in the Pennsylvania Hillclimb Association (PHA) Champion Seri
 es. It is an SCCA sanctioned event and is hosted by the Weatherly Hill
 climb Association.  Both mail-in and online registration is available 
 for this event. Online registration will be open in August on motorspo
 rtreg.com-- search for Fall Weatherly.  Camping is allowed at this eve
 nt. There will also be several local organizations with food stands se
 rving breakfast and lunch both days. The event also has great spectato
 r areas along the course.   Please see the PHA Website for more inform
 ation. See the Rules Menu for car classes and preparation rules, and t
 he Current Schedule/Results Menu for registration links and the full s
 eries schedule. Or look under the About PHA menu for contacts if you h
 ave questions.\n\nFor more information visit https://northeastwheelsev
 ents.com/events/fall-weatherly-hillclimb-1
DTSTART:20230916T120000Z
DTEND:20230917T220000Z
CATEGORIES:"scca hillclimb", racing
LOCATION:Weatherly PA
WEBSITE:https://pahillclimb.org/
URL:https://pahillclimb.org/
CONTACT:
ORGANIZER:PA Hillclimb Association, Weatherly Hillclimb Association, N
 EPA SCCA
ATTACH;FMTTYPE="image/jpeg":https://storage.ning.com/topology/rest/1.0
 /file/get/11128569668?profile=original
ATTENDEE;ROLE=REQ-PARTICIPANT;PARTSTAT=ACCEPTED;RSVP=TRUE;CN="PA Hillc
 limb Association":https://northeastwheelsevents.com/profile/PAHillclim
 bAssociation
END:VEVENT
END:VCALENDAR
