BEGIN:VCALENDAR
PRODID:NingEventWidget-v1
VERSION:2.0
METHOD:PUBLISH
BEGIN:VEVENT
UID:5167423:Event:101747
DTSTAMP:20260425T195303Z
SUMMARY:FAMOUS 50'S 24TH. ANNUAL HOT ROD WEEKEND
DESCRIPTION:Want something different in a show, Famous 50's has it. Yo
 u have not been to a show like this. Open to 1990 & Older Street Rods,
  Classics, Customs, Antiques, Trucks, Rat Rods/Beaters, Unusual Vehicl
 es, a Mustang Corral for Any year Mustang (separate judging) newer Sho
 w Cars can be Registered and on display with their clubs, but cannot b
 e judged. So many things to do without going anyplace else. 3 Restau
 rants, 4 Pools & small water park with Cabanas, Pool & Clam Bar. Tour
 naments with Awards for 50's Bowling, Bocce Ball, Shipboard Shuffleboa
 rd, Go Cart Racing with Award and More. Bingo, Movies, Ice Cream Parlo
 r, Vendors for the ladies and \"Mike\" with all the of his Nostalgia S
 igns and other products. Entertainment:\nFREE with all Show Car Reg
 istrations, (2 adults) Kids Free under 16. 2-3 Concerts, 3 Bands, 3 
 Singers, Johnny the \"Oldies Singer\" Friday afternoon & back is \"Bri
 an with Lina\" fantastic show, Saturday afternoon, plus \"Fifties Joe\
 " spinning the tunes for your enjoyment. Go to famous50s.co and downlo
 ad the flier/Registration, fill it out and send it in. Call the Villa 
 Roma and reserve your rooms, toll free at 1-800-533-6767 TODAY, tell t
 hem it's for the Famous 50's weekend. More to do at one place, like no
  other show, be part of it. We have people that have come for the 24 y
 ears and love it, a Vacation with the family and your SHOW CAR, do it
  now.      \n\nFor more information visit https://northeastwheel
 sevents.com/events/famous-50-s-24th-annual-hot-rod-weekend
DTSTART:20160616T040000Z
DTEND:20160620T035900Z
CATEGORIES:car, "show/", get, "together/convention"
LOCATION:THE VILLA ROMA RESORT
WEBSITE:http://villaroma.com
URL:http://villaroma.com
CONTACT:518-588-0814
ORGANIZER:Famous 50's / John Stage
ATTACH;FMTTYPE="image/jpeg":
ATTENDEE;ROLE=REQ-PARTICIPANT;PARTSTAT=ACCEPTED;RSVP=TRUE;CN="John Sta
 ge":https://northeastwheelsevents.com/profile/JohnStage247
END:VEVENT
END:VCALENDAR
